BEGIN:VCALENDAR
VERSION:2.0
PRODID:-//wp-events-plugin.com//7.2.3.1//EN
BEGIN:VEVENT
UID:3@evenementen.tankkd-rafting.com
DTSTART;TZID=Europe/Brussels:20260627T133000
DTEND;TZID=Europe/Brussels:20260627T173000
DTSTAMP:20260223T132342Z
URL:https://evenementen.tankkd-rafting.com/events/waregem/
SUMMARY:Waregem
DESCRIPTION:🌊 Tankkd Rafting @ Stadionvijvers Waregem\n\nTijdens Lions B
 oulevard (Pre Congé) brengen wij pure zomer vibes naar de Stadionvijvers 
 in Waregem!\n\nBoek je eigen Tankkd en geniet samen met vrienden\, familie
  of collega’s van een unieke ervaring op het water. Dobberen\, lachen\, 
 aperitieven en vooral… plezier maken.\n\n✨ Jij brengt je eigen apero m
 ee óf\n🍾 Je boekt een aperopakket bij ons – wij regelen alles.\n\nWi
 j zorgen voor de setting\, de sfeer en de beleving. Jullie hoeven enkel te
  ontspannen en genieten.\n\nOf je nu komt om te chillen\, te vieren of gew
 oon om iets totaal anders te doen tijdens Pre Congé — Tankkd Rafting ma
 akt van Lions Boulevard een moment om nooit te vergeten.\n\n📍 Stadionvi
 jvers Waregem\n27 /06 Tijdens Lions Boulevard – Pre Congé\n\nReserveer 
 tijdig en vaar mee in de leukste zomerervaring van Waregem! 🌞🚣‍♀
 ️
LOCATION:Stadion Vijvers Waregem\, Zuiderlaan\, Waregem\, 8790\, België
X-APPLE-STRUCTURED-LOCATION;VALUE=URI;X-ADDRESS=Zuiderlaan\, Waregem\, 8790
 \, België;X-APPLE-RADIUS=100;X-TITLE=Stadion Vijvers Waregem:geo:0,0
END:VEVENT
BEGIN:VEVENT
UID:2@evenementen.tankkd-rafting.com
DTSTART;TZID=Europe/Brussels:20260628T133000
DTEND;TZID=Europe/Brussels:20260628T173000
DTSTAMP:20260302T141250Z
URL:https://evenementen.tankkd-rafting.com/events/poperinge-juni/
SUMMARY:Poperinge - juni
DESCRIPTION:Tankkd Rafting Poperinge\nDobberen\, aperitieven &amp\; geniete
 n op het water\nDeze zomer brengen we de unieke Tankkd Rafting beleving na
 ar Poperinge! 🌿🚤\n\nStap aan boord van onze gezellige Tankkd en geni
 et samen met vrienden\, familie of collega’s van een ontspannen moment o
 p het water. Geen stress\, geen haast — gewoon lachen\, aperitieven en s
 amen plezier maken.\n\nJe mag zelf hapjes en drankjes meebrengen en er een
  heerlijke picknick van maken op het water.\nLiever zorgeloos genieten? Da
 n kan je ook kiezen om je apero bij ons te bestellen — wij regelen het g
 raag voor jou.\n\nWij zorgen alvast voor:\n✔️ Een unieke setting op he
 t water\n✔️ Een gezellige en veilige ervaring\n✔️ Sfeer\, ontspann
 ing en fun\n✔️ Dat typische Tankkd-gevoel\n\nOf je nu komt om te viere
 n\, bij te praten of gewoon even te ontsnappen… dit wordt een moment om 
 niet te vergeten.\n\n⚠️ Plaatsen zijn beperkt — reserveer tijdig om 
 zeker te zijn van jouw plekje op het water!\n\nTot in Poperinge? 💛\n\n&
 nbsp\;
ATTACH;FMTTYPE=image/jpeg:https://evenementen.tankkd-rafting.com/wp-conten
 t/uploads/2026/02/DSC_3828-scaled.jpg
LOCATION:Poperinge\, straat+nr\, Poperinge\, 8970\, België
X-APPLE-STRUCTURED-LOCATION;VALUE=URI;X-ADDRESS=straat+nr\, Poperinge\, 897
 0\, België;X-APPLE-RADIUS=100;X-TITLE=Poperinge:geo:0,0
END:VEVENT
BEGIN:VTIMEZONE
TZID:Europe/Brussels
X-LIC-LOCATION:Europe/Brussels
BEGIN:DAYLIGHT
DTSTART:20260329T030000
TZOFFSETFROM:+0100
TZOFFSETTO:+0200
TZNAME:CEST
END:DAYLIGHT
END:VTIMEZONE
END:VCALENDAR